BEGIN:VCALENDAR
VERSION:2.0
PRODID:-//Highland - ECPv6.15.20//NONSGML v1.0//EN
CALSCALE:GREGORIAN
METHOD:PUBLISH
X-WR-CALNAME:Highland
X-ORIGINAL-URL:https://highland.org
X-WR-CALDESC:Events for Highland
REFRESH-INTERVAL;VALUE=DURATION:PT1H
X-Robots-Tag:noindex
X-PUBLISHED-TTL:PT1H
BEGIN:VTIMEZONE
TZID:America/New_York
BEGIN:DAYLIGHT
TZOFFSETFROM:-0500
TZOFFSETTO:-0400
TZNAME:EDT
DTSTART:20240310T070000
END:DAYLIGHT
BEGIN:STANDARD
TZOFFSETFROM:-0400
TZOFFSETTO:-0500
TZNAME:EST
DTSTART:20241103T060000
END:STANDARD
BEGIN:DAYLIGHT
TZOFFSETFROM:-0500
TZOFFSETTO:-0400
TZNAME:EDT
DTSTART:20250309T070000
END:DAYLIGHT
BEGIN:STANDARD
TZOFFSETFROM:-0400
TZOFFSETTO:-0500
TZNAME:EST
DTSTART:20251102T060000
END:STANDARD
BEGIN:DAYLIGHT
TZOFFSETFROM:-0500
TZOFFSETTO:-0400
TZNAME:EDT
DTSTART:20260308T070000
END:DAYLIGHT
BEGIN:STANDARD
TZOFFSETFROM:-0400
TZOFFSETTO:-0500
TZNAME:EST
DTSTART:20261101T060000
END:STANDARD
END:VTIMEZONE
BEGIN:VEVENT
DTSTART;TZID=America/New_York:20250731T093000
DTEND;TZID=America/New_York:20250802T163000
DTSTAMP:20260424T042011
CREATED:20250715T200309Z
LAST-MODIFIED:20250721T185850Z
UID:11502-1753954200-1754152200@highland.org
SUMMARY:VA250 Mobile Museum Experience
DESCRIPTION:Highland will host the VA250 Mobile Museum from Thursday\, July 31\, through Saturday\, August 2. A hands-on\, interactive\, and immersive “museum on wheels\,” the VA250 Mobile Museum Experience titled “Out of Many\, One” is housed in a quad-expandable tractor trailer that is traveling throughout Virginia and beyond. The mobile museum brings key stories of Virginia’s rich history to schools\, museums\, local events\, fairs\, and more\, highlighting every region of the state. \n \nThere is no fee to access the VA250 Mobile Experience. The mobile museum will be positioned in the main Highland parking lot and will be free and accessible to the public from 9:30 a.m. to 4:30 p.m. from Thursday\, July 31\, through Saturday\, August 2. \nThe VA250 Mobile Museum Experience at Highland is made possible by the Charlottesville Albemarle Convention and Visitors Bureau and the Virginia American Revolution 250 Commission. A special thanks to The Draftsman hotel for providing overnight accommodations for the VA250 Mobile Museum team. \n  \n  \n  \n  \n 
URL:https://highland.org/event/va250-mobile-museum-experience/
LOCATION:James Monroe’s Highland\, 2050 James Monroe's Highland\, Charlottesville\, VA\, 22902
ATTACH;FMTTYPE=image/jpeg:https://highland.org/wp-content/uploads/2025/07/USA_0615.jpg
END:VEVENT
END:VCALENDAR