BEGIN:VCALENDAR
VERSION:2.0
PRODID:-//Highland - ECPv6.15.20//NONSGML v1.0//EN
CALSCALE:GREGORIAN
METHOD:PUBLISH
X-WR-CALNAME:Highland
X-ORIGINAL-URL:https://highland.org
X-WR-CALDESC:Events for Highland
REFRESH-INTERVAL;VALUE=DURATION:PT1H
X-Robots-Tag:noindex
X-PUBLISHED-TTL:PT1H
BEGIN:VTIMEZONE
TZID:America/New_York
BEGIN:DAYLIGHT
TZOFFSETFROM:-0500
TZOFFSETTO:-0400
TZNAME:EDT
DTSTART:20240310T070000
END:DAYLIGHT
BEGIN:STANDARD
TZOFFSETFROM:-0400
TZOFFSETTO:-0500
TZNAME:EST
DTSTART:20241103T060000
END:STANDARD
BEGIN:DAYLIGHT
TZOFFSETFROM:-0500
TZOFFSETTO:-0400
TZNAME:EDT
DTSTART:20250309T070000
END:DAYLIGHT
BEGIN:STANDARD
TZOFFSETFROM:-0400
TZOFFSETTO:-0500
TZNAME:EST
DTSTART:20251102T060000
END:STANDARD
BEGIN:DAYLIGHT
TZOFFSETFROM:-0500
TZOFFSETTO:-0400
TZNAME:EDT
DTSTART:20260308T070000
END:DAYLIGHT
BEGIN:STANDARD
TZOFFSETFROM:-0400
TZOFFSETTO:-0500
TZNAME:EST
DTSTART:20261101T060000
END:STANDARD
END:VTIMEZONE
BEGIN:VEVENT
DTSTART;TZID=America/New_York:20250705T140000
DTEND;TZID=America/New_York:20250705T160000
DTSTAMP:20260422T062028
CREATED:20241219T215113Z
LAST-MODIFIED:20250630T204423Z
UID:11076-1751724000-1751731200@highland.org
SUMMARY:Anthems from America & Abroad - A Heifetz Holiday Celebration
DESCRIPTION:On Saturday\, July 5th\, Highland will host the Heifetz International Music Institute for a free concert from 2:00 to 4:00 p.m. A classically-inspired ensemble from Heifetz will bring a uniquely innovative and expressive concert that will appeal to all ages. \nSeating will be available under the ceiling fans in the Hilltop Pavilion. Attendees are welcome to bring lawn chairs. Picnics are also welcome in the grassy Pavilion Yard! \nConcert admission is free! \nPlease note that James Monroe’s Highland does not permit pets on the property. Leashed service animals\, as defined by the ADA\, are permitted. \n  \n\n  \n*Images courtesy of Gene Runion
URL:https://highland.org/event/independence-day-concert-and-celebration-8/
LOCATION:James Monroe’s Highland\, 2050 James Monroe's Highland\, Charlottesville\, VA\, 22902
ATTACH;FMTTYPE=image/jpeg:https://highland.org/wp-content/uploads/2024/01/2023-7-4-Heifetz-41-credit-e1706288072346.jpg
END:VEVENT
END:VCALENDAR