BEGIN:VCALENDAR
VERSION:2.0
PRODID:-//Highland - ECPv6.15.20//NONSGML v1.0//EN
CALSCALE:GREGORIAN
METHOD:PUBLISH
X-WR-CALNAME:Highland
X-ORIGINAL-URL:https://highland.org
X-WR-CALDESC:Events for Highland
REFRESH-INTERVAL;VALUE=DURATION:PT1H
X-Robots-Tag:noindex
X-PUBLISHED-TTL:PT1H
BEGIN:VTIMEZONE
TZID:America/New_York
BEGIN:DAYLIGHT
TZOFFSETFROM:-0500
TZOFFSETTO:-0400
TZNAME:EDT
DTSTART:20220313T070000
END:DAYLIGHT
BEGIN:STANDARD
TZOFFSETFROM:-0400
TZOFFSETTO:-0500
TZNAME:EST
DTSTART:20221106T060000
END:STANDARD
BEGIN:DAYLIGHT
TZOFFSETFROM:-0500
TZOFFSETTO:-0400
TZNAME:EDT
DTSTART:20230312T070000
END:DAYLIGHT
BEGIN:STANDARD
TZOFFSETFROM:-0400
TZOFFSETTO:-0500
TZNAME:EST
DTSTART:20231105T060000
END:STANDARD
BEGIN:DAYLIGHT
TZOFFSETFROM:-0500
TZOFFSETTO:-0400
TZNAME:EDT
DTSTART:20240310T070000
END:DAYLIGHT
BEGIN:STANDARD
TZOFFSETFROM:-0400
TZOFFSETTO:-0500
TZNAME:EST
DTSTART:20241103T060000
END:STANDARD
END:VTIMEZONE
BEGIN:VEVENT
DTSTART;TZID=America/New_York:20230704T140000
DTEND;TZID=America/New_York:20230704T160000
DTSTAMP:20260422T085155
CREATED:20230111T211614Z
LAST-MODIFIED:20230616T180727Z
UID:10001-1688479200-1688486400@highland.org
SUMMARY:Independence Day Concert and Celebration
DESCRIPTION:On Tuesday\, July 4th\, Highland will host the Heifetz International Music Institute for a free concert from 2:00 to 4:00 p.m. A classically-inspired ensemble from Heifetz will bring a uniquely innovative and expressive concert that will appeal to all ages. \nWhile we will have seating available underneath of the Hilltop Pavilion\, we recommend guests bring blankets and lawn chairs to maximize social distancing in our grassy\, Pavilion Yard. This area is also perfect for a picnic! \nPlease note that James Monroe’s Highland does not permit pets on the property. Leashed service animals\, as defined by the ADA\, are permitted. \n  \n\n  \n*Images courtesy of Gene Runion
URL:https://highland.org/event/independence-day-concert-and-celebration-6/
LOCATION:James Monroe’s Highland\, 2050 James Monroe's Highland\, Charlottesville\, VA\, 22902
ATTACH;FMTTYPE=image/jpeg:https://highland.org/wp-content/uploads/2020/02/2019-Heifetz4th-37-credit.jpg
END:VEVENT
END:VCALENDAR