BEGIN:VCALENDAR
VERSION:2.0
PRODID:-//Highland - ECPv6.15.20//NONSGML v1.0//EN
CALSCALE:GREGORIAN
METHOD:PUBLISH
X-WR-CALNAME:Highland
X-ORIGINAL-URL:https://highland.org
X-WR-CALDESC:Events for Highland
REFRESH-INTERVAL;VALUE=DURATION:PT1H
X-Robots-Tag:noindex
X-PUBLISHED-TTL:PT1H
BEGIN:VTIMEZONE
TZID:America/Halifax
BEGIN:DAYLIGHT
TZOFFSETFROM:-0400
TZOFFSETTO:-0300
TZNAME:ADT
DTSTART:20170312T060000
END:DAYLIGHT
BEGIN:STANDARD
TZOFFSETFROM:-0300
TZOFFSETTO:-0400
TZNAME:AST
DTSTART:20171105T050000
END:STANDARD
BEGIN:DAYLIGHT
TZOFFSETFROM:-0400
TZOFFSETTO:-0300
TZNAME:ADT
DTSTART:20180311T060000
END:DAYLIGHT
BEGIN:STANDARD
TZOFFSETFROM:-0300
TZOFFSETTO:-0400
TZNAME:AST
DTSTART:20181104T050000
END:STANDARD
BEGIN:DAYLIGHT
TZOFFSETFROM:-0400
TZOFFSETTO:-0300
TZNAME:ADT
DTSTART:20190310T060000
END:DAYLIGHT
BEGIN:STANDARD
TZOFFSETFROM:-0300
TZOFFSETTO:-0400
TZNAME:AST
DTSTART:20191103T050000
END:STANDARD
END:VTIMEZONE
BEGIN:VEVENT
DTSTART;TZID=America/Halifax:20181028T130000
DTEND;TZID=America/Halifax:20181028T200000
DTSTAMP:20260422T060416
CREATED:20181010T191911Z
LAST-MODIFIED:20181024T210129Z
UID:6661-1540731600-1540756800@highland.org
SUMMARY:Halloween at Highland
DESCRIPTION:James Monroe’s Highland\, in partnership with the Albemarle County Fair\, will host Halloween at Highland\, an afternoon and evening of fall fun\, on Sunday\, October 28\, from 1:00 to 8:00 p.m. Admission to the event includes hayrides through the Highland pastures\, walks through the corn maze\, and entry in the children’s Halloween costume contest. Food\, drink\, pumpkins\, and face painting will be available for purchase. All proceeds will support agricultural programming and the Albemarle County Fair at Highland. \nThe costume contest is limited to children age twelve and under and will take place at 4:00 p.m. \nAdmission is $5 per participant. Children under 6 years old are admitted FREE.
URL:https://highland.org/event/halloween-at-highland/
ATTACH;FMTTYPE=image/jpeg:https://highland.org/wp-content/uploads/2018/10/Punkin-FB-e1539352363883.jpg
END:VEVENT
END:VCALENDAR