BEGIN:VCALENDAR
VERSION:2.0
PRODID:-//Highland - ECPv6.15.20//NONSGML v1.0//EN
CALSCALE:GREGORIAN
METHOD:PUBLISH
X-WR-CALNAME:Highland
X-ORIGINAL-URL:https://highland.org
X-WR-CALDESC:Events for Highland
REFRESH-INTERVAL;VALUE=DURATION:PT1H
X-Robots-Tag:noindex
X-PUBLISHED-TTL:PT1H
BEGIN:VTIMEZONE
TZID:America/New_York
BEGIN:DAYLIGHT
TZOFFSETFROM:-0500
TZOFFSETTO:-0400
TZNAME:EDT
DTSTART:20240310T070000
END:DAYLIGHT
BEGIN:STANDARD
TZOFFSETFROM:-0400
TZOFFSETTO:-0500
TZNAME:EST
DTSTART:20241103T060000
END:STANDARD
BEGIN:DAYLIGHT
TZOFFSETFROM:-0500
TZOFFSETTO:-0400
TZNAME:EDT
DTSTART:20250309T070000
END:DAYLIGHT
BEGIN:STANDARD
TZOFFSETFROM:-0400
TZOFFSETTO:-0500
TZNAME:EST
DTSTART:20251102T060000
END:STANDARD
BEGIN:DAYLIGHT
TZOFFSETFROM:-0500
TZOFFSETTO:-0400
TZNAME:EDT
DTSTART:20260308T070000
END:DAYLIGHT
BEGIN:STANDARD
TZOFFSETFROM:-0400
TZOFFSETTO:-0500
TZNAME:EST
DTSTART:20261101T060000
END:STANDARD
END:VTIMEZONE
BEGIN:VEVENT
DTSTART;TZID=America/New_York:20250906T100000
DTEND;TZID=America/New_York:20250906T123000
DTSTAMP:20260421T075011
CREATED:20250427T155356Z
LAST-MODIFIED:20250828T174233Z
UID:11353-1757152800-1757161800@highland.org
SUMMARY:Deep History: Geologic Perspectives at Highland
DESCRIPTION:Join us at Highland on Saturday\, September 6\, for the next event in a series celebrating 50 years of William & Mary’s stewardship of Highland. In central Virginia the underlying bedrock is typically concealed beneath the region’s verdant green hills\, but at Highland and in the Blue Ridge foothills the bedrock records a long and exciting history that goes back more than a billion years.  In the program Deep History: Geologic Perspectives at Highland\, W&M Geology Professor Chuck Bailey will explore geological connections to the landscape and human history of Virginia. \nThe talk will be from 10:00 to 11:00 a.m. on September 6 in the lower level of the Highland Event Barn\, with an optional hike from 11:00 a.m. to 12:30 p.m. Light refreshments provided. Please bring a water bottle\, sunscreen\, bug repellent\, and sturdy shoes if you plan on joining the hike. Click on the registration link below to sign up for this free program: \n[su_button url=”https://bookeo.com/purchase-tickets?type=41556WW674N198382F161C” target=”blank” style=”soft” background=”#194789″ size=”8″ center=”yes” text_shadow=”1px 1px 4px #000000″]Registration[/su_button]
URL:https://highland.org/event/deep-history-geologic-perspectives-at-highland/
LOCATION:James Monroe’s Highland\, 2050 James Monroe's Highland\, Charlottesville\, VA\, 22902
ATTACH;FMTTYPE=image/png:https://highland.org/wp-content/uploads/2025/08/geology-50th-scaled-1.png
END:VEVENT
END:VCALENDAR